BEGIN:VCALENDAR
VERSION:2.0
PRODID:-//Storen Financial - ECPv6.15.20//NONSGML v1.0//EN
CALSCALE:GREGORIAN
METHOD:PUBLISH
X-WR-CALNAME:Storen Financial
X-ORIGINAL-URL:https://storenfinancial.com
X-WR-CALDESC:Events for Storen Financial
REFRESH-INTERVAL;VALUE=DURATION:PT1H
X-Robots-Tag:noindex
X-PUBLISHED-TTL:PT1H
BEGIN:VTIMEZONE
TZID:America/Indiana/Indianapolis
BEGIN:DAYLIGHT
TZOFFSETFROM:-0500
TZOFFSETTO:-0400
TZNAME:EDT
DTSTART:20230312T070000
END:DAYLIGHT
BEGIN:STANDARD
TZOFFSETFROM:-0400
TZOFFSETTO:-0500
TZNAME:EST
DTSTART:20231105T060000
END:STANDARD
BEGIN:DAYLIGHT
TZOFFSETFROM:-0500
TZOFFSETTO:-0400
TZNAME:EDT
DTSTART:20240310T070000
END:DAYLIGHT
BEGIN:STANDARD
TZOFFSETFROM:-0400
TZOFFSETTO:-0500
TZNAME:EST
DTSTART:20241103T060000
END:STANDARD
BEGIN:DAYLIGHT
TZOFFSETFROM:-0500
TZOFFSETTO:-0400
TZNAME:EDT
DTSTART:20250309T070000
END:DAYLIGHT
BEGIN:STANDARD
TZOFFSETFROM:-0400
TZOFFSETTO:-0500
TZNAME:EST
DTSTART:20251102T060000
END:STANDARD
END:VTIMEZONE
BEGIN:VEVENT
DTSTART;TZID=America/Indiana/Indianapolis:20240514T140000
DTEND;TZID=America/Indiana/Indianapolis:20240514T160000
DTSTAMP:20260425T153622
CREATED:20240307T162956Z
LAST-MODIFIED:20240426T153134Z
UID:13311-1715695200-1715702400@storenfinancial.com
SUMMARY:Understanding Your Financials
DESCRIPTION:Training Program: Led by our Business Services Director\, this unique training environment will allow you to learn not just how to increase sales but to reduce cost\, shift where you’re spending your money\, or a combination of all three. In this course\, you will not only learn how to read financial statements but also how to interpret them. With the knowledge you’ll gain\, you will have greater confidence in what is currently happening within your company\, and you’ll be able to work toward your end goals. *Registration Required. \nClick here for more details and how to register.
URL:https://storenfinancial.com/event/understanding-your-financials/
LOCATION:Storen Financial Office\, 1120 W Oak St\, Suite 200\, Zionsville\, IN\, 46077
CATEGORIES:Training Program
END:VEVENT
END:VCALENDAR