BEGIN:VCALENDAR
VERSION:2.0
PRODID:-//Storen Financial - ECPv6.15.20//NONSGML v1.0//EN
CALSCALE:GREGORIAN
METHOD:PUBLISH
X-WR-CALNAME:Storen Financial
X-ORIGINAL-URL:https://storenfinancial.com
X-WR-CALDESC:Events for Storen Financial
REFRESH-INTERVAL;VALUE=DURATION:PT1H
X-Robots-Tag:noindex
X-PUBLISHED-TTL:PT1H
BEGIN:VTIMEZONE
TZID:America/Indiana/Indianapolis
BEGIN:DAYLIGHT
TZOFFSETFROM:-0500
TZOFFSETTO:-0400
TZNAME:EDT
DTSTART:20240310T070000
END:DAYLIGHT
BEGIN:STANDARD
TZOFFSETFROM:-0400
TZOFFSETTO:-0500
TZNAME:EST
DTSTART:20241103T060000
END:STANDARD
BEGIN:DAYLIGHT
TZOFFSETFROM:-0500
TZOFFSETTO:-0400
TZNAME:EDT
DTSTART:20250309T070000
END:DAYLIGHT
BEGIN:STANDARD
TZOFFSETFROM:-0400
TZOFFSETTO:-0500
TZNAME:EST
DTSTART:20251102T060000
END:STANDARD
BEGIN:DAYLIGHT
TZOFFSETFROM:-0500
TZOFFSETTO:-0400
TZNAME:EDT
DTSTART:20260308T070000
END:DAYLIGHT
BEGIN:STANDARD
TZOFFSETFROM:-0400
TZOFFSETTO:-0500
TZNAME:EST
DTSTART:20261101T060000
END:STANDARD
END:VTIMEZONE
BEGIN:VEVENT
DTSTART;TZID=America/Indiana/Indianapolis:20250918T093000
DTEND;TZID=America/Indiana/Indianapolis:20250918T113000
DTSTAMP:20260421T151721
CREATED:20241121T171849Z
LAST-MODIFIED:20250822T162937Z
UID:15903-1758187800-1758195000@storenfinancial.com
SUMMARY:The Basics of Social Security - 9/18
DESCRIPTION:Financial Toolbox Event: Join us for this complimentary event on September 18th\, where Financial Advisors Kiran Sharma\, Ronnie Jackson\, and Alex Kiritschenko will educate on the basics of Social Security. This transition can introduce many questions for those nearing retirement\, especially when you’re unsure of your future retirement date\, don’t know when you’re eligible for benefits\, and may even be overestimating what you expect your monthly benefits to be. \nClick here for more details. 
URL:https://storenfinancial.com/event/social-security-scenarios/
LOCATION:Storen Financial Office\, 1120 W Oak St\, Suite 200\, Zionsville\, IN\, 46077
CATEGORIES:Educational Event,Financial Toolbox
END:VEVENT
END:VCALENDAR