BEGIN:VCALENDAR
VERSION:2.0
PRODID:-//Storen Financial - ECPv6.15.20//NONSGML v1.0//EN
CALSCALE:GREGORIAN
METHOD:PUBLISH
X-ORIGINAL-URL:https://storenfinancial.com
X-WR-CALDESC:Events for Storen Financial
REFRESH-INTERVAL;VALUE=DURATION:PT1H
X-Robots-Tag:noindex
X-PUBLISHED-TTL:PT1H
BEGIN:VTIMEZONE
TZID:America/Indiana/Indianapolis
BEGIN:DAYLIGHT
TZOFFSETFROM:-0500
TZOFFSETTO:-0400
TZNAME:EDT
DTSTART:20240310T070000
END:DAYLIGHT
BEGIN:STANDARD
TZOFFSETFROM:-0400
TZOFFSETTO:-0500
TZNAME:EST
DTSTART:20241103T060000
END:STANDARD
BEGIN:DAYLIGHT
TZOFFSETFROM:-0500
TZOFFSETTO:-0400
TZNAME:EDT
DTSTART:20250309T070000
END:DAYLIGHT
BEGIN:STANDARD
TZOFFSETFROM:-0400
TZOFFSETTO:-0500
TZNAME:EST
DTSTART:20251102T060000
END:STANDARD
BEGIN:DAYLIGHT
TZOFFSETFROM:-0500
TZOFFSETTO:-0400
TZNAME:EDT
DTSTART:20260308T070000
END:DAYLIGHT
BEGIN:STANDARD
TZOFFSETFROM:-0400
TZOFFSETTO:-0500
TZNAME:EST
DTSTART:20261101T060000
END:STANDARD
END:VTIMEZONE
BEGIN:VEVENT
DTSTART;TZID=America/Indiana/Indianapolis:20250722T130000
DTEND;TZID=America/Indiana/Indianapolis:20250722T150000
DTSTAMP:20260421T181924
CREATED:20240307T161843Z
LAST-MODIFIED:20250609T180519Z
UID:13304-1753189200-1753196400@storenfinancial.com
SUMMARY:Tax-Smart Distribution Strategies for Retirement
DESCRIPTION:Complimentary Financial Toolbox Event: Moving from the saving phase into the retirement income phase introduces some very important decisions on when and how to generate the necessary money to support your lifestyle. It can also introduce significant risks. Storen Financial’s Investment Team will discuss safe withdrawal strategies you can utilize to address and eliminate these risks\, focusing on tax-responsible ways to generate income from your portfolio in combination with Social Security and personal pensions. We will also discuss how Social Security benefits are taxed and the impact of retirement income on Medicare costs\, as these factors will play a part in sustaining your retirement lifestyle. *Registration Required. \nClick here for more details. 
URL:https://storenfinancial.com/event/tax-smart-distribution-strategies-for-retirement/
LOCATION:Storen Financial Office\, 1120 W Oak St\, Suite 200\, Zionsville\, IN\, 46077
CATEGORIES:Educational Event,Financial Toolbox
END:VEVENT
END:VCALENDAR