BEGIN:VCALENDAR
VERSION:2.0
PRODID:-//Storen Financial - ECPv6.15.20//NONSGML v1.0//EN
CALSCALE:GREGORIAN
METHOD:PUBLISH
X-WR-CALNAME:Storen Financial
X-ORIGINAL-URL:https://storenfinancial.com
X-WR-CALDESC:Events for Storen Financial
REFRESH-INTERVAL;VALUE=DURATION:PT1H
X-Robots-Tag:noindex
X-PUBLISHED-TTL:PT1H
BEGIN:VTIMEZONE
TZID:America/Indiana/Indianapolis
BEGIN:DAYLIGHT
TZOFFSETFROM:-0500
TZOFFSETTO:-0400
TZNAME:EDT
DTSTART:20240310T070000
END:DAYLIGHT
BEGIN:STANDARD
TZOFFSETFROM:-0400
TZOFFSETTO:-0500
TZNAME:EST
DTSTART:20241103T060000
END:STANDARD
BEGIN:DAYLIGHT
TZOFFSETFROM:-0500
TZOFFSETTO:-0400
TZNAME:EDT
DTSTART:20250309T070000
END:DAYLIGHT
BEGIN:STANDARD
TZOFFSETFROM:-0400
TZOFFSETTO:-0500
TZNAME:EST
DTSTART:20251102T060000
END:STANDARD
BEGIN:DAYLIGHT
TZOFFSETFROM:-0500
TZOFFSETTO:-0400
TZNAME:EDT
DTSTART:20260308T070000
END:DAYLIGHT
BEGIN:STANDARD
TZOFFSETFROM:-0400
TZOFFSETTO:-0500
TZNAME:EST
DTSTART:20261101T060000
END:STANDARD
END:VTIMEZONE
BEGIN:VEVENT
DTSTART;TZID=America/Indiana/Indianapolis:20250522T093000
DTEND;TZID=America/Indiana/Indianapolis:20250522T113000
DTSTAMP:20260421T213106
CREATED:20240307T161452Z
LAST-MODIFIED:20250428T152840Z
UID:13302-1747906200-1747913400@storenfinancial.com
SUMMARY:The Trifecta of IRA Tax Planning
DESCRIPTION:Complimentary Financial Toolbox Event: Storen Financial’s Investment team will educate on these three important actions you can take with your tax-qualified (IRA) monies to affect your current and future tax situations: \n\nRoth conversions – Pay tax today to allow money to grow on a tax-free basis moving forward\, ultimately giving you the flexibility in retirement to control your annual bill.\nQualified Longevity Annuity Contracts – Move up to $210k of your IRA dollars into an annuity contract that can delay required distributions until age 85 instead of 73. This can reduce your taxable income\, thereby preserving more assets for beneficiaries or for increased healthcare costs as you age.\nQualified Charitable Distributions –  Make your charitable donations directly from your IRA after the age of 70.5. This enables you to give more while never paying taxes on these dollars.\n\n*Registration Required. \nClick here for more details. 
URL:https://storenfinancial.com/event/the-trifecta-of-ira-tax-planning/
LOCATION:Storen Financial Office\, 1120 W Oak St\, Suite 200\, Zionsville\, IN\, 46077
CATEGORIES:Educational Event,Financial Toolbox
END:VEVENT
END:VCALENDAR