BEGIN:VCALENDAR
VERSION:2.0
PRODID:-//Storen Financial - ECPv6.15.20//NONSGML v1.0//EN
CALSCALE:GREGORIAN
METHOD:PUBLISH
X-WR-CALNAME:Storen Financial
X-ORIGINAL-URL:https://storenfinancial.com
X-WR-CALDESC:Events for Storen Financial
REFRESH-INTERVAL;VALUE=DURATION:PT1H
X-Robots-Tag:noindex
X-PUBLISHED-TTL:PT1H
BEGIN:VTIMEZONE
TZID:America/Indiana/Indianapolis
BEGIN:DAYLIGHT
TZOFFSETFROM:-0500
TZOFFSETTO:-0400
TZNAME:EDT
DTSTART:20240310T070000
END:DAYLIGHT
BEGIN:STANDARD
TZOFFSETFROM:-0400
TZOFFSETTO:-0500
TZNAME:EST
DTSTART:20241103T060000
END:STANDARD
BEGIN:DAYLIGHT
TZOFFSETFROM:-0500
TZOFFSETTO:-0400
TZNAME:EDT
DTSTART:20250309T070000
END:DAYLIGHT
BEGIN:STANDARD
TZOFFSETFROM:-0400
TZOFFSETTO:-0500
TZNAME:EST
DTSTART:20251102T060000
END:STANDARD
BEGIN:DAYLIGHT
TZOFFSETFROM:-0500
TZOFFSETTO:-0400
TZNAME:EDT
DTSTART:20260308T070000
END:DAYLIGHT
BEGIN:STANDARD
TZOFFSETFROM:-0400
TZOFFSETTO:-0500
TZNAME:EST
DTSTART:20261101T060000
END:STANDARD
END:VTIMEZONE
BEGIN:VEVENT
DTSTART;TZID=America/Indiana/Indianapolis:20250422T120000
DTEND;TZID=America/Indiana/Indianapolis:20250422T130000
DTSTAMP:20260421T224610
CREATED:20241121T172724Z
LAST-MODIFIED:20250305T162434Z
UID:15905-1745323200-1745326800@storenfinancial.com
SUMMARY:Millennials and the Need for Financial Planning
DESCRIPTION:Virtual Event: Join us for this complimentary virtual event where Storen Financial’s Investment Team will discuss financial planning for Millennials. As part of our Young Professionals Program\, they will review information pertaining to budgeting\, goals\, managing credit\, and investing. *Registration Required. \nClick here for more details. 
URL:https://storenfinancial.com/event/millennials-and-the-need-for-financial-planning/
LOCATION:Storen Financial Office\, 1120 W Oak St\, Suite 200\, Zionsville\, IN\, 46077
CATEGORIES:Educational Event,Virtual,Young Professionals
END:VEVENT
END:VCALENDAR