BEGIN:VCALENDAR
VERSION:2.0
PRODID:-//Storen Financial - ECPv6.15.20//NONSGML v1.0//EN
CALSCALE:GREGORIAN
METHOD:PUBLISH
X-ORIGINAL-URL:https://storenfinancial.com
X-WR-CALDESC:Events for Storen Financial
REFRESH-INTERVAL;VALUE=DURATION:PT1H
X-Robots-Tag:noindex
X-PUBLISHED-TTL:PT1H
BEGIN:VTIMEZONE
TZID:America/Indiana/Indianapolis
BEGIN:DAYLIGHT
TZOFFSETFROM:-0500
TZOFFSETTO:-0400
TZNAME:EDT
DTSTART:20240310T070000
END:DAYLIGHT
BEGIN:STANDARD
TZOFFSETFROM:-0400
TZOFFSETTO:-0500
TZNAME:EST
DTSTART:20241103T060000
END:STANDARD
BEGIN:DAYLIGHT
TZOFFSETFROM:-0500
TZOFFSETTO:-0400
TZNAME:EDT
DTSTART:20250309T070000
END:DAYLIGHT
BEGIN:STANDARD
TZOFFSETFROM:-0400
TZOFFSETTO:-0500
TZNAME:EST
DTSTART:20251102T060000
END:STANDARD
BEGIN:DAYLIGHT
TZOFFSETFROM:-0500
TZOFFSETTO:-0400
TZNAME:EDT
DTSTART:20260308T070000
END:DAYLIGHT
BEGIN:STANDARD
TZOFFSETFROM:-0400
TZOFFSETTO:-0500
TZNAME:EST
DTSTART:20261101T060000
END:STANDARD
END:VTIMEZONE
BEGIN:VEVENT
DTSTART;TZID=America/Indiana/Indianapolis:20250220T110000
DTEND;TZID=America/Indiana/Indianapolis:20250220T120000
DTSTAMP:20260422T021724
CREATED:20241120T143606Z
LAST-MODIFIED:20250124T154635Z
UID:15863-1740049200-1740052800@storenfinancial.com
SUMMARY:Medicare General Enrollment Details
DESCRIPTION:Join us for this complimentary\, in-person event on February 20th\, where Ruth Hoffman\, Storen Financial’s Medicare Benefits Specialist\, will walk you through the Medicare process\, enrollment guidelines\, and address questions you might have about this health insurance option. This informational event is intended to help individuals coming on to Medicare understand what options they have as well as help those already on Medicare understand how their benefits work. *Registration Required. \nClick here for more details.
URL:https://storenfinancial.com/event/medicare-general-enrollment-details/
LOCATION:Storen Financial Office\, 1120 W Oak St\, Suite 200\, Zionsville\, IN\, 46077
CATEGORIES:Educational Event,Medicare
END:VEVENT
END:VCALENDAR