BEGIN:VCALENDAR
VERSION:2.0
PRODID:-//Storen Financial - ECPv6.15.20//NONSGML v1.0//EN
CALSCALE:GREGORIAN
METHOD:PUBLISH
X-WR-CALNAME:Storen Financial
X-ORIGINAL-URL:https://storenfinancial.com
X-WR-CALDESC:Events for Storen Financial
REFRESH-INTERVAL;VALUE=DURATION:PT1H
X-Robots-Tag:noindex
X-PUBLISHED-TTL:PT1H
BEGIN:VTIMEZONE
TZID:UTC
BEGIN:STANDARD
TZOFFSETFROM:+0000
TZOFFSETTO:+0000
TZNAME:UTC
DTSTART:20240101T000000
END:STANDARD
END:VTIMEZONE
BEGIN:VEVENT
DTSTART;TZID=UTC:20250121T110000
DTEND;TZID=UTC:20250121T120000
DTSTAMP:20260422T035017
CREATED:20241120T144331Z
LAST-MODIFIED:20250103T214859Z
UID:15867-1737457200-1737460800@storenfinancial.com
SUMMARY:Cyber Security Awareness
DESCRIPTION:Join us for this complimentary event on January 21st\, where Mark Mosher from Konica Minolta will educate on the prevalence of cybercrime\, who is often targeted\, and what action steps you can take to protect yourself. This event will be interactive\, leaving plenty of time for questions and providing you with useful resources as well. *Registration Required. \nClick here for more details.
URL:https://storenfinancial.com/event/cyber-security-awareness/
LOCATION:Storen Financial Office\, 1120 W Oak St\, Suite 200\, Zionsville\, IN\, 46077
CATEGORIES:Educational Event
END:VEVENT
END:VCALENDAR