BEGIN:VCALENDAR
VERSION:2.0
PRODID:-//Storen Financial - ECPv6.15.20//NONSGML v1.0//EN
CALSCALE:GREGORIAN
METHOD:PUBLISH
X-ORIGINAL-URL:https://storenfinancial.com
X-WR-CALDESC:Events for Storen Financial
REFRESH-INTERVAL;VALUE=DURATION:PT1H
X-Robots-Tag:noindex
X-PUBLISHED-TTL:PT1H
BEGIN:VTIMEZONE
TZID:America/Indiana/Indianapolis
BEGIN:DAYLIGHT
TZOFFSETFROM:-0500
TZOFFSETTO:-0400
TZNAME:EDT
DTSTART:20230312T070000
END:DAYLIGHT
BEGIN:STANDARD
TZOFFSETFROM:-0400
TZOFFSETTO:-0500
TZNAME:EST
DTSTART:20231105T060000
END:STANDARD
BEGIN:DAYLIGHT
TZOFFSETFROM:-0500
TZOFFSETTO:-0400
TZNAME:EDT
DTSTART:20240310T070000
END:DAYLIGHT
BEGIN:STANDARD
TZOFFSETFROM:-0400
TZOFFSETTO:-0500
TZNAME:EST
DTSTART:20241103T060000
END:STANDARD
BEGIN:DAYLIGHT
TZOFFSETFROM:-0500
TZOFFSETTO:-0400
TZNAME:EDT
DTSTART:20250309T070000
END:DAYLIGHT
BEGIN:STANDARD
TZOFFSETFROM:-0400
TZOFFSETTO:-0500
TZNAME:EST
DTSTART:20251102T060000
END:STANDARD
END:VTIMEZONE
BEGIN:VEVENT
DTSTART;TZID=America/Indiana/Indianapolis:20240516T130000
DTEND;TZID=America/Indiana/Indianapolis:20240516T150000
DTSTAMP:20260422T163650
CREATED:20240307T161155Z
LAST-MODIFIED:20240412T161245Z
UID:13297-1715864400-1715871600@storenfinancial.com
SUMMARY:Innovative Alternatives to Long-term Care
DESCRIPTION:Financial Toolbox Event: Storen Financial’s Investment team along with OneAmerica representative\, Scott Hall\, will explain the pros\, cons\, and alternatives to long-term care insurance and how it factors into your comprehensive financial plan. The discussion will focus on asset-based long-term care insurance\, an innovative alternative to traditional long-term care insurance that can provide protection for the potential 20-30 years of retirement when life disruptions from long-term health conditions can occur. *Registration Required. \nClick here for more details and how to register.
URL:https://storenfinancial.com/event/innovative-alternatives-to-long-term-care/
LOCATION:Storen Financial Office\, 1120 W Oak St\, Suite 200\, Zionsville\, IN\, 46077
CATEGORIES:Educational Event,Financial Toolbox
END:VEVENT
END:VCALENDAR