BEGIN:VCALENDAR
VERSION:2.0
PRODID:-//Storen Financial - ECPv6.15.20//NONSGML v1.0//EN
CALSCALE:GREGORIAN
METHOD:PUBLISH
X-ORIGINAL-URL:https://storenfinancial.com
X-WR-CALDESC:Events for Storen Financial
REFRESH-INTERVAL;VALUE=DURATION:PT1H
X-Robots-Tag:noindex
X-PUBLISHED-TTL:PT1H
BEGIN:VTIMEZONE
TZID:America/Indiana/Indianapolis
BEGIN:DAYLIGHT
TZOFFSETFROM:-0500
TZOFFSETTO:-0400
TZNAME:EDT
DTSTART:20230312T070000
END:DAYLIGHT
BEGIN:STANDARD
TZOFFSETFROM:-0400
TZOFFSETTO:-0500
TZNAME:EST
DTSTART:20231105T060000
END:STANDARD
BEGIN:DAYLIGHT
TZOFFSETFROM:-0500
TZOFFSETTO:-0400
TZNAME:EDT
DTSTART:20240310T070000
END:DAYLIGHT
BEGIN:STANDARD
TZOFFSETFROM:-0400
TZOFFSETTO:-0500
TZNAME:EST
DTSTART:20241103T060000
END:STANDARD
BEGIN:DAYLIGHT
TZOFFSETFROM:-0500
TZOFFSETTO:-0400
TZNAME:EDT
DTSTART:20250309T070000
END:DAYLIGHT
BEGIN:STANDARD
TZOFFSETFROM:-0400
TZOFFSETTO:-0500
TZNAME:EST
DTSTART:20251102T060000
END:STANDARD
BEGIN:DAYLIGHT
TZOFFSETFROM:-0500
TZOFFSETTO:-0400
TZNAME:EDT
DTSTART:20260308T070000
END:DAYLIGHT
BEGIN:STANDARD
TZOFFSETFROM:-0400
TZOFFSETTO:-0500
TZNAME:EST
DTSTART:20261101T060000
END:STANDARD
END:VTIMEZONE
BEGIN:VEVENT
DTSTART;TZID=America/Indiana/Indianapolis:20251202T163000
DTEND;TZID=America/Indiana/Indianapolis:20251202T180000
DTSTAMP:20260422T085003
CREATED:20241121T171101Z
LAST-MODIFIED:20251107T172506Z
UID:15901-1764693000-1764698400@storenfinancial.com
SUMMARY:Zionsville Chamber First Tuesday
DESCRIPTION:Storen Financial is hosting the Zionsville Chamber of Commerce’s “First Tuesday” Networking Event at our office. This complimentary event is the perfect after-hours setting for business professionals to come together to learn more about our community\, forge connections with other local businesses\, and get to know the Storen Financial team. \nClick here for more details. 
URL:https://storenfinancial.com/event/zionsville-chamber-first-tuesday/
LOCATION:Storen Financial Office\, 1120 W Oak St\, Suite 200\, Zionsville\, IN\, 46077
CATEGORIES:Community Event,Educational Event
END:VEVENT
BEGIN:VEVENT
DTSTART;TZID=America/Indiana/Indianapolis:20240601T090000
DTEND;TZID=America/Indiana/Indianapolis:20240601T110000
DTSTAMP:20260422T085003
CREATED:20240227T181948Z
LAST-MODIFIED:20240412T161424Z
UID:13156-1717232400-1717239600@storenfinancial.com
SUMMARY:Shred Day
DESCRIPTION:The Rays paper shredding truck will be at our office on June 1\, 2024 to instantly shred all your personal documents on site. This event is a secure way to get rid of your documents containing personal information all at one time. We enjoy providing this service to our clients and surrounding community. We consider security and privacy an important part of doing business. \nOPEN TO THE COMMUNITY! \nClick here for more details.
URL:https://storenfinancial.com/event/shred-day/
LOCATION:Storen Financial Office\, 1120 W Oak St\, Suite 200\, Zionsville\, IN\, 46077
CATEGORIES:Community Event
END:VEVENT
END:VCALENDAR